BEGIN:VCALENDAR
VERSION:2.0
PRODID:-//Floracliff Nature Sanctuary - ECPv6.15.17//NONSGML v1.0//EN
CALSCALE:GREGORIAN
METHOD:PUBLISH
X-WR-CALNAME:Floracliff Nature Sanctuary
X-ORIGINAL-URL:https://www.floracliff.org
X-WR-CALDESC:Events for Floracliff Nature Sanctuary
REFRESH-INTERVAL;VALUE=DURATION:PT1H
X-Robots-Tag:noindex
X-PUBLISHED-TTL:PT1H
BEGIN:VTIMEZONE
TZID:America/New_York
BEGIN:DAYLIGHT
TZOFFSETFROM:-0500
TZOFFSETTO:-0400
TZNAME:EDT
DTSTART:20210314T070000
END:DAYLIGHT
BEGIN:STANDARD
TZOFFSETFROM:-0400
TZOFFSETTO:-0500
TZNAME:EST
DTSTART:20211107T060000
END:STANDARD
BEGIN:DAYLIGHT
TZOFFSETFROM:-0500
TZOFFSETTO:-0400
TZNAME:EDT
DTSTART:20220313T070000
END:DAYLIGHT
BEGIN:STANDARD
TZOFFSETFROM:-0400
TZOFFSETTO:-0500
TZNAME:EST
DTSTART:20221106T060000
END:STANDARD
BEGIN:DAYLIGHT
TZOFFSETFROM:-0500
TZOFFSETTO:-0400
TZNAME:EDT
DTSTART:20230312T070000
END:DAYLIGHT
BEGIN:STANDARD
TZOFFSETFROM:-0400
TZOFFSETTO:-0500
TZNAME:EST
DTSTART:20231105T060000
END:STANDARD
END:VTIMEZONE
BEGIN:VEVENT
DTSTART;TZID=America/New_York:20220908T180000
DTEND;TZID=America/New_York:20220908T200000
DTSTAMP:20260423T230929
CREATED:20220706T175508Z
LAST-MODIFIED:20220725T165212Z
UID:17234-1662660000-1662667200@www.floracliff.org
SUMMARY:Mindful Hiking: The Healing Power of Nature
DESCRIPTION:Join us for a sensory exploration of Floracliff. Our intention will be finding the peace of mind that comes from opening to sights\, sounds\, and scents of the woodlands. On our walk we will meditate and explore the mindfulness of movement while opening to a greater awareness of this amazing space. \nThe three co-Facilitators are Koru mindfulness certified teachers: Dr. Connie Jennings (cjenn@uky.edu) MD\, Director: UK College of Medicine: Integrative Medicine and Health\,\nDr. Lee Walmsley (lee.walmsley@uky.edu)\, PhD RN\, College of Nursing\,\nDr. Dan Stone (dstone@uky.edu)\, UK Rosenthal Endowed Research Chair\, mindfulness researcher. \nHike difficulty: rated moderate to difficult\, due to steep and uneven terrain; there may also be some slick spots near the creek \nBring: water \nOptional: hiking poles\, snack\, camera \nWeather Policy: For the safety and enjoyment of our visitors\, all programs are subject to cancellation due to inclement weather\, including rain\, wind\, and severe weather warnings and advisories.
URL:https://www.floracliff.org/event/mindful-hiking-the-healing-power-of-nature/
LOCATION:Floracliff Nature Sanctuary\, 8000 Elk Lick Falls Road\, Lexington\, KY\, 40515\, United States
CATEGORIES:Hikes and Programs,Inspiration
ATTACH;FMTTYPE=image/jpeg:https://www.floracliff.org/wp-content/uploads/2018/11/IMG_6166-2.jpg
END:VEVENT
BEGIN:VEVENT
DTSTART;TZID=America/New_York:20220913T140000
DTEND;TZID=America/New_York:20221025T170000
DTSTAMP:20260423T230929
CREATED:20220706T192106Z
LAST-MODIFIED:20220725T165252Z
UID:17258-1663077600-1666717200@www.floracliff.org
SUMMARY:Creating Art in Nature: Four Sessions
DESCRIPTION:–A new opportunity to dwell in nature as inspiration for making art— \nIf you have an interest or desire to broaden your skills as a naturalist and artist\, come join us for four art making sessions sited within the beautiful nature preserve at Floracliff. We’ll be outside creating art! \nSkill level:\nSome experience with handling art materials is assumed. If you are a naturalist who wants to try your hand at rendering the things you love\, you are welcome. If you are an artist who values the opportunity to work in a secluded\, protected preserve you are welcome. Guidance will be offered on request. \nSome themes might include:\n–Nature’s rich tapestry of species relationships\n–species of flora and fauna of interest to you\n–plein air landscape drawing and painting\n–living still life\n–some days will include hiking to an inspirational spot within Floracliff\nAnd more! \n*Sessions are free and limited to 10 participants (age 16 and older). Attendance at all sessions is not required. We will maintain a wait list\, so cancellation notification in a timely manner is greatly appreciated. \n*Bring whatever art making materials you prefer\n*Ground cloth or seat\, water and snacks\, insect repellant\, sun hat\n*Everyone will pack their materials in and out\, sometimes a distance of ½ mile \nSchedule:\n2 PM – 5 PM (or until 6:00 for more remote locations).\nSessions will take place on the following Tuesdays:\nSept. 13 & 27\nOct. 11 & 25 \nIn case of rain we will try to reschedule. Depending on interest\, we will repeat the series in the spring. \nSession hosts:\nSteve Bennett and Laura Mentor \nSteve has been drawing all his life. He has over 20 years’ experience teaching/guiding students of many ages in drawing and 3-D design. His love of Nature has recently led to new branches of learning and appreciation for the rich complexities of the natural world. \nLaura has developed her eye for Nature’s treasures through a lifetime of hiking\, observation and research. She has been creating large scale installations of her ornate\, narrative stained glass windows for public buildings and private clients for over 25 years. Her ongoing research into native species and their relationships have informed her recent work. Examples may be viewed at www.lauramentor.com. \nSteve and Laura are regular program volunteers at Floracliff.
URL:https://www.floracliff.org/event/creating-art-in-nature/
LOCATION:Floracliff Nature Sanctuary\, 8000 Elk Lick Falls Road\, Lexington\, KY\, 40515\, United States
CATEGORIES:Hikes and Programs,Inspiration
ATTACH;FMTTYPE=image/jpeg:https://www.floracliff.org/wp-content/uploads/2022/07/IMG_0498-scaled.jpg
END:VEVENT
END:VCALENDAR