BEGIN:VCALENDAR
VERSION:2.0
PRODID:-//Floracliff Nature Sanctuary - ECPv6.15.17//NONSGML v1.0//EN
CALSCALE:GREGORIAN
METHOD:PUBLISH
X-WR-CALNAME:Floracliff Nature Sanctuary
X-ORIGINAL-URL:https://www.floracliff.org
X-WR-CALDESC:Events for Floracliff Nature Sanctuary
REFRESH-INTERVAL;VALUE=DURATION:PT1H
X-Robots-Tag:noindex
X-PUBLISHED-TTL:PT1H
BEGIN:VTIMEZONE
TZID:America/New_York
BEGIN:DAYLIGHT
TZOFFSETFROM:-0500
TZOFFSETTO:-0400
TZNAME:EDT
DTSTART:20210314T070000
END:DAYLIGHT
BEGIN:STANDARD
TZOFFSETFROM:-0400
TZOFFSETTO:-0500
TZNAME:EST
DTSTART:20211107T060000
END:STANDARD
BEGIN:DAYLIGHT
TZOFFSETFROM:-0500
TZOFFSETTO:-0400
TZNAME:EDT
DTSTART:20220313T070000
END:DAYLIGHT
BEGIN:STANDARD
TZOFFSETFROM:-0400
TZOFFSETTO:-0500
TZNAME:EST
DTSTART:20221106T060000
END:STANDARD
BEGIN:DAYLIGHT
TZOFFSETFROM:-0500
TZOFFSETTO:-0400
TZNAME:EDT
DTSTART:20230312T070000
END:DAYLIGHT
BEGIN:STANDARD
TZOFFSETFROM:-0400
TZOFFSETTO:-0500
TZNAME:EST
DTSTART:20231105T060000
END:STANDARD
END:VTIMEZONE
BEGIN:VEVENT
DTSTART;TZID=America/New_York:20220317T173000
DTEND;TZID=America/New_York:20220317T193000
DTSTAMP:20260424T080701
CREATED:20211129T161511Z
LAST-MODIFIED:20211129T161837Z
UID:15854-1647538200-1647545400@www.floracliff.org
SUMMARY:Golden Hour Hike to Elk Lick Falls
DESCRIPTION:End your day with a quiet and relaxing “golden hour” hike at Floracliff while the early evening sunset shines through the trees. This will feature Elk Lick Falls and one of Kentucky’s oldest trees. \nHike distance and difficulty: 1.5 miles; rated moderate\, due to steep and uneven terrain; there may also be some slick spots near the creek \nBring: water \nOptional: hiking poles\, snack\, camera \nPlease note: The Nature Center is open for restroom access only. Masks are currently required indoors. \nCOVID-19 SAFETY PRECAUTIONS AND GUIDELINES: Floracliff does not require fully-vaccinated individuals to wear masks during outdoor programs as long as adequate physical distance (6-feet) can be maintained between others outside of one’s household/pod. Floracliff continues to recommend unvaccinated individuals wear a mask throughout all programs\, especially when adequate physical distance cannot be maintained between others outside of one’s household/pod. \nAll program participants and Floracliff representatives\, both fully-vaccinated and unvaccinated\, should have a mask available during programs in the case that adequate physical distance cannot be maintained. We are happy to provide one to you if necessary. \n*These guidelines are subject to change at any time according to current state and CDC guidance. \nRefund Policy: Refunds are permitted for cancellations made at least two weeks in advance of the event. No refunds or transfers of fees will occur if the request is made less than two weeks prior to the event. To request a refund\, email info@floracliff.org.
URL:https://www.floracliff.org/event/golden-hour-hike-to-elk-lick-falls-2/
LOCATION:Floracliff Nature Sanctuary\, 8000 Elk Lick Falls Road\, Lexington\, KY\, 40515\, United States
CATEGORIES:Exploration,Inspiration
ATTACH;FMTTYPE=image/jpeg:https://www.floracliff.org/wp-content/uploads/2018/11/IMG_3377-2-e1542479360346.jpg
END:VEVENT
END:VCALENDAR