BEGIN:VCALENDAR
VERSION:2.0
PRODID:-//Floracliff Nature Sanctuary - ECPv6.15.17//NONSGML v1.0//EN
CALSCALE:GREGORIAN
METHOD:PUBLISH
X-ORIGINAL-URL:https://www.floracliff.org
X-WR-CALDESC:Events for Floracliff Nature Sanctuary
REFRESH-INTERVAL;VALUE=DURATION:PT1H
X-Robots-Tag:noindex
X-PUBLISHED-TTL:PT1H
BEGIN:VTIMEZONE
TZID:America/New_York
BEGIN:DAYLIGHT
TZOFFSETFROM:-0500
TZOFFSETTO:-0400
TZNAME:EDT
DTSTART:20200308T070000
END:DAYLIGHT
BEGIN:STANDARD
TZOFFSETFROM:-0400
TZOFFSETTO:-0500
TZNAME:EST
DTSTART:20201101T060000
END:STANDARD
BEGIN:DAYLIGHT
TZOFFSETFROM:-0500
TZOFFSETTO:-0400
TZNAME:EDT
DTSTART:20210314T070000
END:DAYLIGHT
BEGIN:STANDARD
TZOFFSETFROM:-0400
TZOFFSETTO:-0500
TZNAME:EST
DTSTART:20211107T060000
END:STANDARD
BEGIN:DAYLIGHT
TZOFFSETFROM:-0500
TZOFFSETTO:-0400
TZNAME:EDT
DTSTART:20220313T070000
END:DAYLIGHT
BEGIN:STANDARD
TZOFFSETFROM:-0400
TZOFFSETTO:-0500
TZNAME:EST
DTSTART:20221106T060000
END:STANDARD
END:VTIMEZONE
BEGIN:VEVENT
DTSTART;TZID=America/New_York:20211008T160000
DTEND;TZID=America/New_York:20211008T180000
DTSTAMP:20260424T154219
CREATED:20210713T184139Z
LAST-MODIFIED:20210715T150211Z
UID:15353-1633708800-1633716000@www.floracliff.org
SUMMARY:In the Company of Trees: A Contemplation Hike w/ Lucia Gilchrist
DESCRIPTION:This contemplation walk through the Floracliff forest will provide an opportunity to reflect on the roles of trees and the relationships they support. There will be an opportunity for quiet contemplation and personal expression through writing\, drawing\, photography\, or meditation.\n\nHike Leader: Lucia Gilchrist\n\nHike distance:  1 mile or less; Easy to Moderate\n\n\nBring: water \nOptional: hiking poles\, snack\, camera \nPlease note: The Nature Center is open for restroom access only. \nCOVID-19 SAFETY PRECAUTIONS AND GUIDELINES UPDATE: As of Tuesday\, April 27th\, the state of Kentucky as well as the Centers for Disease Control and Prevention has updated guidelines for small outdoor gatherings. Kentucky no longer requires a mask be worn outdoors for events of fewer than 1000 people. The CDC states the risk of COVID-19 spread is low in outdoor settings\, but also continues to recommend masks in settings where physical distance cannot be maintained. \nIn response to the current guidance\, Floracliff will not require fully-vaccinated individuals to wear masks during outdoor programs as long as adequate physical distance (6-feet) can be maintained between others outside of one’s household/pod. Floracliff continues to recommend unvaccinated individuals wear a mask throughout all programs\, especially when adequate physical distance cannot be maintained between others outside of one’s household/pod. \nAll program participants and Floracliff representatives\, both fully-vaccinated and unvaccinated\, should have a mask available during programs in the case that adequate physical distance cannot be maintained. We are happy to provide one to you if necessary. \n*These guidelines are subject to change at any time according to current state and CDC guidance. \nRefund Policy: Refunds are permitted for cancellations made at least two weeks in advance of the event. No refunds or transfers of fees will occur if the request is made less than two weeks prior to the event. To request a refund\, email info@floracliff.org. \n\n 
URL:https://www.floracliff.org/event/in-the-company-of-trees-a-contemplation-hike-w-lucia-gilchrist/
LOCATION:Floracliff Nature Sanctuary\, 8000 Elk Lick Falls Road\, Lexington\, KY\, 40515\, United States
CATEGORIES:Inspiration
ATTACH;FMTTYPE=image/jpeg:https://www.floracliff.org/wp-content/uploads/2021/07/23FB6565-82C9-4CC0-9105-CD4ADC60CD9E-scaled.jpeg
END:VEVENT
END:VCALENDAR