BEGIN:VCALENDAR
VERSION:2.0
PRODID:-//Floracliff Nature Sanctuary - ECPv6.15.17//NONSGML v1.0//EN
CALSCALE:GREGORIAN
METHOD:PUBLISH
X-ORIGINAL-URL:https://www.floracliff.org
X-WR-CALDESC:Events for Floracliff Nature Sanctuary
REFRESH-INTERVAL;VALUE=DURATION:PT1H
X-Robots-Tag:noindex
X-PUBLISHED-TTL:PT1H
BEGIN:VTIMEZONE
TZID:America/New_York
BEGIN:DAYLIGHT
TZOFFSETFROM:-0500
TZOFFSETTO:-0400
TZNAME:EDT
DTSTART:20200308T070000
END:DAYLIGHT
BEGIN:STANDARD
TZOFFSETFROM:-0400
TZOFFSETTO:-0500
TZNAME:EST
DTSTART:20201101T060000
END:STANDARD
BEGIN:DAYLIGHT
TZOFFSETFROM:-0500
TZOFFSETTO:-0400
TZNAME:EDT
DTSTART:20210314T070000
END:DAYLIGHT
BEGIN:STANDARD
TZOFFSETFROM:-0400
TZOFFSETTO:-0500
TZNAME:EST
DTSTART:20211107T060000
END:STANDARD
BEGIN:DAYLIGHT
TZOFFSETFROM:-0500
TZOFFSETTO:-0400
TZNAME:EDT
DTSTART:20220313T070000
END:DAYLIGHT
BEGIN:STANDARD
TZOFFSETFROM:-0400
TZOFFSETTO:-0500
TZNAME:EST
DTSTART:20221106T060000
END:STANDARD
END:VTIMEZONE
BEGIN:VEVENT
DTSTART;TZID=America/New_York:20210508T130000
DTEND;TZID=America/New_York:20210508T160000
DTSTAMP:20260424T234545
CREATED:20210401T170733Z
LAST-MODIFIED:20210429T142722Z
UID:14867-1620478800-1620489600@www.floracliff.org
SUMMARY:Hike: Creative Reflections at Elk Lick Creek
DESCRIPTION:Enjoy a full hour immersed in the sights and sounds of Elk Lick Creek to write\, create\, meditate\, or just enjoy the sights and sounds of nature. This program offers the opportunity to slow down\, connect to nature\, and disconnect from electronic devices. At the end of the hike\, participants will have a chance to share as much or as little as they like. \nBring: water\, a pad to sit on\, journal/sketchbook and writing/drawing materials. Please leave your cameras at home for this program. \nHike Leader: Floracliff naturalists \nHiking level: Moderate (due to steep\, uneven terrain) \nPlease note: Bathrooms and facilities are currently closed to visitors. Please come prepared.  This hike will host no more than 10 participants. \nCOVID-19 SAFETY PRECAUTIONS AND GUIDELINES UPDATE: As of Tuesday\, April 27th\, the state of Kentucky as well as the Centers for Disease Control and Prevention has updated guidelines for small outdoor gatherings. Kentucky no longer requires a mask be worn outdoors for events of fewer than 1000 people. The CDC states the risk of COVID-19 spread is low in outdoor settings\, but also continues to recommend masks in settings where physical distance cannot be maintained. \nIn response to the current guidance\, Floracliff will not require fully-vaccinated individuals to wear masks during outdoor programs as long as adequate physical distance (6-feet) can be maintained between others outside of one’s household/pod. Floracliff continues to recommend unvaccinated individuals wear a mask throughout all programs\, especially when adequate physical distance cannot be maintained between others outside of one’s household/pod. \nAll program participants and Floracliff representatives\, both fully-vaccinated and unvaccinated\, should have a mask available during programs in the case that adequate physical distance cannot be maintained. We are happy to provide one to you if necessary. \n*These guidelines are subject to change at any time according to current state and CDC guidance. \nRefund Policy: Refunds are permitted for cancellations made at least two weeks in advance of the event. No refunds or transfers of fees will occur if the request is made less than two weeks prior to the event. To request a refund\, email info@floracliff.org. \n 
URL:https://www.floracliff.org/event/hike-creative-reflections-at-elk-lick-creek/
LOCATION:Floracliff Nature Sanctuary\, 8000 Elk Lick Falls Road\, Lexington\, KY\, 40515\, United States
CATEGORIES:Exploration,Hikes and Programs,Inspiration
ATTACH;FMTTYPE=image/jpeg:https://www.floracliff.org/wp-content/uploads/2019/11/CreativeReflections-1.jpg
END:VEVENT
END:VCALENDAR