BEGIN:VCALENDAR
VERSION:2.0
PRODID:-//Floracliff Nature Sanctuary - ECPv6.15.17//NONSGML v1.0//EN
CALSCALE:GREGORIAN
METHOD:PUBLISH
X-WR-CALNAME:Floracliff Nature Sanctuary
X-ORIGINAL-URL:https://www.floracliff.org
X-WR-CALDESC:Events for Floracliff Nature Sanctuary
REFRESH-INTERVAL;VALUE=DURATION:PT1H
X-Robots-Tag:noindex
X-PUBLISHED-TTL:PT1H
BEGIN:VTIMEZONE
TZID:America/New_York
BEGIN:DAYLIGHT
TZOFFSETFROM:-0500
TZOFFSETTO:-0400
TZNAME:EDT
DTSTART:20190310T070000
END:DAYLIGHT
BEGIN:STANDARD
TZOFFSETFROM:-0400
TZOFFSETTO:-0500
TZNAME:EST
DTSTART:20191103T060000
END:STANDARD
BEGIN:DAYLIGHT
TZOFFSETFROM:-0500
TZOFFSETTO:-0400
TZNAME:EDT
DTSTART:20200308T070000
END:DAYLIGHT
BEGIN:STANDARD
TZOFFSETFROM:-0400
TZOFFSETTO:-0500
TZNAME:EST
DTSTART:20201101T060000
END:STANDARD
BEGIN:DAYLIGHT
TZOFFSETFROM:-0500
TZOFFSETTO:-0400
TZNAME:EDT
DTSTART:20210314T070000
END:DAYLIGHT
BEGIN:STANDARD
TZOFFSETFROM:-0400
TZOFFSETTO:-0500
TZNAME:EST
DTSTART:20211107T060000
END:STANDARD
END:VTIMEZONE
BEGIN:VEVENT
DTSTART;TZID=America/New_York:20200209T130000
DTEND;TZID=America/New_York:20200209T153000
DTSTAMP:20260425T234551
CREATED:20191108T202748Z
LAST-MODIFIED:20191219T001204Z
UID:5734-1581253200-1581262200@www.floracliff.org
SUMMARY:Creative Reflections at the Trail's End Lodge
DESCRIPTION:Enjoy two hours at the charming Trail’s End Lodge and adjacent grounds to write\, create\, or meditate. This program offers the opportunity to slow down\, connect to nature\, and disconnect from electronic devices. We’ll provide hot tea and a warm fire. At the end of the program\, participants will have a chance to share as much or as little as they want. \nBring: water\, a pad to sit on\, snack\, journal/sketchbook. Please leave your cameras at home for this program. \nHike Leader: Floracliff naturalists \nHiking Level: Easy \n\nRefund Policy: Refunds are permitted for cancellations made at least two weeks in advance of the event. No refunds or transfers of fees will occur if the request is made less than two weeks prior to the event. To request a refund\, email info@floracliff.org.
URL:https://www.floracliff.org/event/creative-reflections-at-the-trails-end-lodge/
LOCATION:Floracliff Nature Sanctuary\, 8000 Elk Lick Falls Road\, Lexington\, KY\, 40515\, United States
CATEGORIES:Inspiration
ATTACH;FMTTYPE=image/jpeg:https://www.floracliff.org/wp-content/uploads/2019/11/CreativeReflections-1.jpg
END:VEVENT
BEGIN:VEVENT
DTSTART;TZID=America/New_York:20200213T130000
DTEND;TZID=America/New_York:20200213T160000
DTSTAMP:20260425T234551
CREATED:20200123T201235Z
LAST-MODIFIED:20200128T200058Z
UID:9143-1581598800-1581609600@www.floracliff.org
SUMMARY:Galentine's Day Hike
DESCRIPTION:Join J&H Lanmark and Floracliff for an afternoon outing celebrating friendship and the love you have for your lady friends. Take a hike with your gal pals and enjoy some much needed time in the forest on this day of ladies celebrating ladies. \nChoose one of two hike options\, either to the Kentucky River or Elk Lick Falls. Both hikes will end at the historic Trail’s End Lodge with a warm beverage. Thanks to J&H Lanmark\, you’ll have  a chance to win some great outdoor swag from companies like Hydro Flask\, Outdoor Research\, Osprey\, HydraPak\, and Patagonia. Everyone will go home with a J&H Koozie. \nHike Leaders: Floracliff Naturalists \nHiking Level: Both hikes are rated moderate-difficult due to uneven and steep terrain\, but there will be options to avoid the steep parts if you choose. \nRefund Policy: Refunds are permitted for cancellations made at least two weeks in advance of the event. No refunds or transfers of fees will occur if the request is made less than two weeks prior to the event. To request a refund\, email info@floracliff.org. \nWeather Policy: For the safety and enjoyment of our visitors\, all programs are subject to cancellation due to inclement weather\, including rain\, wind\, and severe weather warnings and advisories.
URL:https://www.floracliff.org/event/galentines-day-hike/
LOCATION:Floracliff Nature Sanctuary\, 8000 Elk Lick Falls Road\, Lexington\, KY\, 40515\, United States
CATEGORIES:Exploration,Inspiration
ATTACH;FMTTYPE=image/jpeg:https://www.floracliff.org/wp-content/uploads/2020/01/GalentinesHike.jpg
END:VEVENT
END:VCALENDAR